BEGIN:VCALENDAR
VERSION:2.0
PRODID:-//JHB Blerick - ECPv6.15.20//NONSGML v1.0//EN
CALSCALE:GREGORIAN
METHOD:PUBLISH
X-WR-CALNAME:JHB Blerick
X-ORIGINAL-URL:https://jhbblerick.nl
X-WR-CALDESC:Evenementen voor JHB Blerick
REFRESH-INTERVAL;VALUE=DURATION:PT1H
X-Robots-Tag:noindex
X-PUBLISHED-TTL:PT1H
BEGIN:VTIMEZONE
TZID:Europe/Paris
BEGIN:DAYLIGHT
TZOFFSETFROM:+0100
TZOFFSETTO:+0200
TZNAME:CEST
DTSTART:20250330T010000
END:DAYLIGHT
BEGIN:STANDARD
TZOFFSETFROM:+0200
TZOFFSETTO:+0100
TZNAME:CET
DTSTART:20251026T010000
END:STANDARD
BEGIN:DAYLIGHT
TZOFFSETFROM:+0100
TZOFFSETTO:+0200
TZNAME:CEST
DTSTART:20260329T010000
END:DAYLIGHT
BEGIN:STANDARD
TZOFFSETFROM:+0200
TZOFFSETTO:+0100
TZNAME:CET
DTSTART:20261025T010000
END:STANDARD
BEGIN:DAYLIGHT
TZOFFSETFROM:+0100
TZOFFSETTO:+0200
TZNAME:CEST
DTSTART:20270328T010000
END:DAYLIGHT
BEGIN:STANDARD
TZOFFSETFROM:+0200
TZOFFSETTO:+0100
TZNAME:CET
DTSTART:20271031T010000
END:STANDARD
END:VTIMEZONE
BEGIN:VEVENT
DTSTART;TZID=Europe/Paris:20260303T193000
DTEND;TZID=Europe/Paris:20260303T210000
DTSTAMP:20260422T142509
CREATED:20241030T201519Z
LAST-MODIFIED:20251013T190320Z
UID:4586-1772566200-1772571600@jhbblerick.nl
SUMMARY:Stafvergadering
DESCRIPTION:
URL:https://jhbblerick.nl/activiteitjhb/stafvergadering-4/
CATEGORIES:Vergadering
END:VEVENT
BEGIN:VEVENT
DTSTART;TZID=Europe/Paris:20260331T193000
DTEND;TZID=Europe/Paris:20260331T213000
DTSTAMP:20260422T142509
CREATED:20240121T142659Z
LAST-MODIFIED:20251013T190208Z
UID:3598-1774985400-1774992600@jhbblerick.nl
SUMMARY:Bestuursvergadering
DESCRIPTION:
URL:https://jhbblerick.nl/activiteitjhb/bestuursvergadering-2/
CATEGORIES:Vergadering
END:VEVENT
BEGIN:VEVENT
DTSTART;TZID=Europe/Paris:20260421T193000
DTEND;TZID=Europe/Paris:20260421T210000
DTSTAMP:20260422T142509
CREATED:20240121T142846Z
LAST-MODIFIED:20251013T184707Z
UID:3602-1776799800-1776805200@jhbblerick.nl
SUMMARY:Stafvergadering
DESCRIPTION:
URL:https://jhbblerick.nl/activiteitjhb/stafvergadering-2/
CATEGORIES:Vergadering
END:VEVENT
BEGIN:VEVENT
DTSTART;TZID=Europe/Paris:20260511T193000
DTEND;TZID=Europe/Paris:20260511T213000
DTSTAMP:20260422T142509
CREATED:20241030T200640Z
LAST-MODIFIED:20251013T184536Z
UID:4582-1778527800-1778535000@jhbblerick.nl
SUMMARY:Bestuursvergadering
DESCRIPTION:
URL:https://jhbblerick.nl/activiteitjhb/bestuursvergadering-8/
CATEGORIES:Vergadering
END:VEVENT
BEGIN:VEVENT
DTSTART;TZID=Europe/Paris:20260602T193000
DTEND;TZID=Europe/Paris:20260602T210000
DTSTAMP:20260422T142509
CREATED:20240121T143609Z
LAST-MODIFIED:20251013T184313Z
UID:3622-1780428600-1780434000@jhbblerick.nl
SUMMARY:Stafvergadering
DESCRIPTION:
URL:https://jhbblerick.nl/activiteitjhb/stafvergadering-3/
CATEGORIES:Vergadering
END:VEVENT
BEGIN:VEVENT
DTSTART;TZID=Europe/Paris:20260607T100000
DTEND;TZID=Europe/Paris:20260607T143000
DTSTAMP:20260422T142509
CREATED:20240121T143536Z
LAST-MODIFIED:20251013T184247Z
UID:3620-1780826400-1780842600@jhbblerick.nl
SUMMARY:Bestuursdag
DESCRIPTION:
URL:https://jhbblerick.nl/activiteitjhb/bestuursdag/
CATEGORIES:Vergadering
END:VEVENT
BEGIN:VEVENT
DTSTART;TZID=Europe/Paris:20260623T193000
DTEND;TZID=Europe/Paris:20260623T213000
DTSTAMP:20260422T142509
CREATED:20240121T143823Z
LAST-MODIFIED:20251013T184104Z
UID:3630-1782243000-1782250200@jhbblerick.nl
SUMMARY:Bestuursvergadering
DESCRIPTION:
URL:https://jhbblerick.nl/activiteitjhb/bestuursvergadering-3/
CATEGORIES:Vergadering
END:VEVENT
END:VCALENDAR